BEGIN:VCALENDAR
VERSION:2.0
PRODID:-//wp-events-plugin.com//7.1.7//EN
TZID:Europe/Berlin
X-WR-TIMEZONE:Europe/Berlin
BEGIN:VEVENT
UID:7822@mescheder-buergertreff.de
DTSTART:20190511T190000Z
DTEND:20190511T210000Z
DTSTAMP:20190502T153513Z
URL:https://www.mescheder-buergertreff.de/veranstaltung/classic-meets-pop/
SUMMARY:Classic meets Pop
DESCRIPTION:
LOCATION:Bürgertreff - Campus\, Kolpingstraße 20\, Meschede\, 59872\, Deu
 tschland
X-APPLE-STRUCTURED-LOCATION;VALUE=URI;X-ADDRESS=Kolpingstraße 20\, Mesched
 e\, 59872\, Deutschland;X-APPLE-RADIUS=100;X-TITLE=Bürgertreff - Campus:g
 eo:0,0
END:VEVENT
END:VCALENDAR