BEGIN:VCALENDAR
VERSION:2.0
PRODID:-//wp-events-plugin.com//7.1.7//EN
TZID:Europe/Berlin
X-WR-TIMEZONE:Europe/Berlin
BEGIN:VEVENT
UID:8593@mescheder-buergertreff.de
DTSTART:20250517T193000Z
DTEND:20250517T220000Z
DTSTAMP:20250404T073859Z
URL:https://www.mescheder-buergertreff.de/veranstaltung/konzert-4bars-quar
 tett/
SUMMARY:Konzert 4Bars-Quartett
DESCRIPTION:
LOCATION:Bürgertreff - Campus\, Kolpingstraße 20\, Meschede\, 59872\, Deu
 tschland
X-APPLE-STRUCTURED-LOCATION;VALUE=URI;X-ADDRESS=Kolpingstraße 20\, Mesched
 e\, 59872\, Deutschland;X-APPLE-RADIUS=100;X-TITLE=Bürgertreff - Campus:g
 eo:0,0
END:VEVENT
END:VCALENDAR